BEGIN:VCALENDAR
VERSION:2.0
PRODID:-//207.180.228.168//NONSGML kigkonsult.se iCalcreator 2.26.9//
CALSCALE:GREGORIAN
METHOD:PUBLISH
X-WR-CALNAME:FIDE Arbiters&#039\; Commission
X-WR-CALDESC:
X-FROM-URL:https://arbiters.fide.com
X-WR-TIMEZONE:Europe/Paris
BEGIN:VTIMEZONE
TZID:Europe/Paris
X-LIC-LOCATION:Europe/Paris
BEGIN:STANDARD
DTSTART:20251026T030000
TZOFFSETFROM:+0200
TZOFFSETTO:+0100
RDATE:20261025T030000
TZNAME:CET
END:STANDARD
BEGIN:DAYLIGHT
DTSTART:20260329T020000
TZOFFSETFROM:+0100
TZOFFSETTO:+0200
RDATE:20270328T020000
TZNAME:CEST
END:DAYLIGHT
END:VTIMEZONE
BEGIN:VEVENT
UID:ai1ec-9862@arbiters.fide.com
DTSTAMP:20260421T151312Z
CATEGORIES;LANGUAGE=en-US:FA Seminar\,FA Seminar ENG\,Training
CONTACT:Amjed Alaa Abbas\; +964 7731702482\; amjedabbas9000@gmail.com
DESCRIPTION:The 185th Internet Based FIDE Arbiters’ Seminar is going to be 
 organised from 09/04/2025 to 14/04/2025\, by the Iraqi Chess Federation\, 
 Asian Chess Federation and West Asian Chess Federation\, under the auspice
 s of FIDE.\nThe Lecturer will be IA/IO Pahlevanzadeh\, Mehrdad (IRI)\, FID
 E Lecturer\, and the Local Assistant lecturer will be IA Asaad\, Ismael Ta
 wfeeq (IRQ).\nThe language of the Seminar will be English with translation
  in Arabic.\nThe Seminar will give norms and titles of FIDE Arbiter\, acco
 rding to the Regulations for the titles of Arbiters.\nSchedule:\n9th April
  2025 (Wednesday)\n09:00-12:00 Laws of chess\n13:00-15:30 Laws of chess (i
 ncluding Rapid\, Blitz and Cases)\n11th April 2025 (Friday)\n09:00-12:00 C
 ompetition Rules and standards of chess equipment\n13\;00-15:30 System of 
 Games\, tie breaks\n12th April 2025 (Saturday)\n09:00-12:00 Regulations fo
 r the rating and the OTB titles\n13:00-15:30 Swiss system and pairing rule
 s\n13th April 2025 (Sunday)\n09:00-10:30 Swiss system and pairing rules (c
 ase study)\n10:45-12:00 Regulations for the titles of the Arbiters\n13:00-
 14:30 Anti-cheating guidelines for Arbiters\n14:45-15:30 Use of the electr
 onic clocks\n14th April 2025 (Monday)\n09:00-10:00 Answer Questions and re
 view the subjects\n10:00-14:00 Examination test
DTSTART;VALUE=DATE:20250409
DTEND;VALUE=DATE:20250415
LOCATION:online
SEQUENCE:0
SUMMARY:185th Internet-Based FIDE Arbiters’ Seminar (IRQ)
URL:https://arbiters.fide.com/news/event/185th-internet-based-fide-arbiters
 -seminar-irq
X-COST-TYPE:free
X-ALT-DESC;FMTTYPE=text/html:<!DOCTYPE HTML PUBLIC '-//W3C//DTD HTML 3.2//E
 N'>\\n<HTML>\\n<HEAD>\\n<TITLE></TITLE>\\n</HEAD>\\n<BODY><p>The 185th Int
 ernet Based FIDE Arbiters’ Seminar is going to be organised from 09/04/202
 5 to 14/04/2025\, by the Iraqi Chess Federation\, Asian Chess Federation a
 nd West Asian Chess Federation\, under the auspices of FIDE.</p>\n<p>The L
 ecturer will be IA/IO Pahlevanzadeh\, Mehrdad (IRI)\, FIDE Lecturer\, and 
 the Local Assistant lecturer will be IA Asaad\, Ismael Tawfeeq (IRQ).</p>
 \n<p>The language of the Seminar will be English with translation in Arabi
 c.</p>\n<p>The Seminar will give norms and titles of FIDE Arbiter\, accord
 ing to the Regulations for the titles of Arbiters.</p>\n<p><strong>Schedul
 e:</strong></p>\n<p>9th April 2025 (Wednesday)<br />\n09:00-12:00 Laws of 
 chess<br />\n13:00-15:30 Laws of chess (including Rapid\, Blitz and Cases)
 </p>\n<p>11th April 2025 (Friday)<br />\n09:00-12:00 Competition Rules and
  standards of chess equipment<br />\n13\;00-15:30 System of Games\, tie br
 eaks</p>\n<p>12th April 2025 (Saturday)<br />\n09:00-12:00 Regulations for
  the rating and the OTB titles<br />\n13:00-15:30 Swiss system and pairing
  rules</p>\n<p>13th April 2025 (Sunday)<br />\n09:00-10:30 Swiss system an
 d pairing rules (case study)<br />\n10:45-12:00 Regulations for the titles
  of the Arbiters<br />\n13:00-14:30 Anti-cheating guidelines for Arbiters<
 br />\n14:45-15:30 Use of the electronic clocks</p>\n<p>14th April 2025 (M
 onday)<br />\n09:00-10:00 Answer Questions and review the subjects<br />\n
 10:00-14:00 Examination test</p>\n</BODY></HTML>
X-TAGS;LANGUAGE=en-US:English
X-COST:US$ 80
END:VEVENT
END:VCALENDAR
